BEGIN:VCALENDAR
VERSION:2.0
PRODID:-//Bábonymegyer Község - ECPv6.15.20//NONSGML v1.0//EN
CALSCALE:GREGORIAN
METHOD:PUBLISH
X-WR-CALNAME:Bábonymegyer Község
X-ORIGINAL-URL:https://www.babonymegyer.hu
X-WR-CALDESC:Események Bábonymegyer Község
REFRESH-INTERVAL;VALUE=DURATION:PT1H
X-Robots-Tag:noindex
X-PUBLISHED-TTL:PT1H
BEGIN:VTIMEZONE
TZID:Europe/Budapest
BEGIN:DAYLIGHT
TZOFFSETFROM:+0100
TZOFFSETTO:+0200
TZNAME:CEST
DTSTART:20210328T010000
END:DAYLIGHT
BEGIN:STANDARD
TZOFFSETFROM:+0200
TZOFFSETTO:+0100
TZNAME:CET
DTSTART:20211031T010000
END:STANDARD
BEGIN:DAYLIGHT
TZOFFSETFROM:+0100
TZOFFSETTO:+0200
TZNAME:CEST
DTSTART:20220327T010000
END:DAYLIGHT
BEGIN:STANDARD
TZOFFSETFROM:+0200
TZOFFSETTO:+0100
TZNAME:CET
DTSTART:20221030T010000
END:STANDARD
BEGIN:DAYLIGHT
TZOFFSETFROM:+0100
TZOFFSETTO:+0200
TZNAME:CEST
DTSTART:20230326T010000
END:DAYLIGHT
BEGIN:STANDARD
TZOFFSETFROM:+0200
TZOFFSETTO:+0100
TZNAME:CET
DTSTART:20231029T010000
END:STANDARD
END:VTIMEZONE
BEGIN:VEVENT
DTSTART;VALUE=DATE:20220923
DTEND;VALUE=DATE:20220925
DTSTAMP:20260421T163622
CREATED:20220915T101406Z
LAST-MODIFIED:20220915T102740Z
UID:2260-1663974000-1664060399@www.babonymegyer.hu
SUMMARY:Családi Nap - Bábonymegyer 2022
DESCRIPTION:
URL:https://www.babonymegyer.hu/event/csaladi-nap-babonymegyer-2022/
LOCATION:Somogy
CATEGORIES:Bábonymegyer,felnőtt rendezvény,Gyermek műsor,gyermek rendezvény,Kultúrális,Rendezvény,Rendezvénysorozat
END:VEVENT
BEGIN:VEVENT
DTSTART;TZID=Europe/Budapest:20220924T140000
DTEND;TZID=Europe/Budapest:20220924T140000
DTSTAMP:20260421T163622
CREATED:20220915T093443Z
LAST-MODIFIED:20220915T104710Z
UID:2256-1664028000-1664028000@www.babonymegyer.hu
SUMMARY:Szüreti Mulatság - 2022 -
DESCRIPTION:
URL:https://www.babonymegyer.hu/event/szureti-mulatsag-2022/
LOCATION:Bábonymegyeri Faluház\, Dózsa György u. 36.\, Bábonymegyer\, Somogy\, 8658\, Magyarország
CATEGORIES:Bábonymegyer,Bál,felnőtt rendezvény,gyermek rendezvény,Kultúrális,Rendezvény
ORGANIZER;CN="B%C3%A1bonymegyer %C3%96nkorm%C3%A1nyzata":MAILTO:babonymegyer@somogy.hu
END:VEVENT
END:VCALENDAR