BEGIN:VCALENDAR
VERSION:2.0
PRODID:-//Bábonymegyer Község - ECPv6.15.20//NONSGML v1.0//EN
CALSCALE:GREGORIAN
METHOD:PUBLISH
X-ORIGINAL-URL:https://www.babonymegyer.hu
X-WR-CALDESC:Események Bábonymegyer Község
REFRESH-INTERVAL;VALUE=DURATION:PT1H
X-Robots-Tag:noindex
X-PUBLISHED-TTL:PT1H
BEGIN:VTIMEZONE
TZID:Europe/Budapest
BEGIN:DAYLIGHT
TZOFFSETFROM:+0100
TZOFFSETTO:+0200
TZNAME:CEST
DTSTART:20210328T010000
END:DAYLIGHT
BEGIN:STANDARD
TZOFFSETFROM:+0200
TZOFFSETTO:+0100
TZNAME:CET
DTSTART:20211031T010000
END:STANDARD
BEGIN:DAYLIGHT
TZOFFSETFROM:+0100
TZOFFSETTO:+0200
TZNAME:CEST
DTSTART:20220327T010000
END:DAYLIGHT
BEGIN:STANDARD
TZOFFSETFROM:+0200
TZOFFSETTO:+0100
TZNAME:CET
DTSTART:20221030T010000
END:STANDARD
BEGIN:DAYLIGHT
TZOFFSETFROM:+0100
TZOFFSETTO:+0200
TZNAME:CEST
DTSTART:20230326T010000
END:DAYLIGHT
BEGIN:STANDARD
TZOFFSETFROM:+0200
TZOFFSETTO:+0100
TZNAME:CET
DTSTART:20231029T010000
END:STANDARD
END:VTIMEZONE
BEGIN:VEVENT
DTSTART;TZID=Europe/Budapest:20220712T091507
DTEND;TZID=Europe/Budapest:20220712T091507
DTSTAMP:20260421T212336
CREATED:20220712T060515Z
LAST-MODIFIED:20220712T060515Z
UID:2203-1657617307-1657617307@www.babonymegyer.hu
SUMMARY:Államalapításunk Ünnepe Augusztus 20.
DESCRIPTION:Augusztus 20. Magyarország nemzeti ünnepe és hivatalos állami ünnepe az államalapítás és az államalapító I. István király emlékére. A nap egyben a magyar katolikus egyház egyik – Magyarország fővédőszentjének tiszteletére tartott – főünnepe. \nA magyar történelemben az államalapító király 1083. augusztus 20-i szentté avatásától szerepet játszik Szent István emlékezete\, amit koronként eltérően értelmeztek és ünnepeltek. Az Árpád-korban az uralkodó dinasztia legitimációját szolgálta az István-kultusz\, melyet a később hozzákapcsolódó Szűz Mária-tisztelet egyházi jellegűvé változtatott. 1686-ban XI. Ince pápa Buda visszafoglalása alkalmából elrendelte\, hogy a katolikus világ évente emlékezzen meg Szent Istvánról. \n  \nProgram hamarosan! 
URL:https://www.babonymegyer.hu/event/allamalapitasunk-unnepe-augusztus-20/
LOCATION:Somogy
CATEGORIES:Bábonymegyer,felnőtt rendezvény,gyermek rendezvény,Nemzeti Ünnep,Rendezvény,Ünnepség
ATTACH;FMTTYPE=image/jpeg:https://www.babonymegyer.hu/wp-content/uploads/2022/07/augusztus20.jpg
END:VEVENT
BEGIN:VEVENT
DTSTART;TZID=Europe/Budapest:20220712T091507
DTEND;TZID=Europe/Budapest:20220712T091507
DTSTAMP:20260421T212336
CREATED:20220712T061347Z
LAST-MODIFIED:20220712T061347Z
UID:2207-1657617307-1657617307@www.babonymegyer.hu
SUMMARY:
DESCRIPTION:Augusztus 20. Magyarország nemzeti ünnepe és hivatalos állami ünnepe az államalapítás és az államalapító I. István király emlékére. A nap egyben a magyar katolikus egyház egyik – Magyarország fővédőszentjének tiszteletére tartott – főünnepe. \nA magyar történelemben az államalapító király 1083. augusztus 20-i szentté avatásától szerepet játszik Szent István emlékezete\, amit koronként eltérően értelmeztek és ünnepeltek. Az Árpád-korban az uralkodó dinasztia legitimációját szolgálta az István-kultusz\, melyet a később hozzákapcsolódó Szűz Mária-tisztelet egyházi jellegűvé változtatott. 1686-ban XI. Ince pápa Buda visszafoglalása alkalmából elrendelte\, hogy a katolikus világ évente emlékezzen meg Szent Istvánról. \n  \nRészletes programok hamarosan!
URL:https://www.babonymegyer.hu/event/2207/
LOCATION:Somogy
CATEGORIES:Bábonymegyer,felnőtt rendezvény,Gyermek műsor,gyermek rendezvény,Kultúrális,Nemzeti Ünnep,Rendezvény,Ünnepség
ATTACH;FMTTYPE=image/jpeg:https://www.babonymegyer.hu/wp-content/uploads/2022/07/augusztus20.jpg
END:VEVENT
BEGIN:VEVENT
DTSTART;TZID=Europe/Budapest:20220716T080000
DTEND;TZID=Europe/Budapest:20220716T100000
DTSTAMP:20260421T212336
CREATED:20220713T091037Z
LAST-MODIFIED:20220713T093412Z
UID:2217-1657958400-1657965600@www.babonymegyer.hu
SUMMARY:4. helyi termék börze
DESCRIPTION:Ragyogó napunk lesz!\n\n2022. július 16-án\, 9:00 – 11:00 a bábonymegyeri sportpályán\, hatalmas fák árnyékában\nKözben kézműves foglalkozás kicsiknek\, nagyoknak: csuhé és szalmafonás. Anyagköltség 500 Ft.\n\n\nEz a negyedik nyitott börzénk amire nagy szeretettel várunk mindenkit\, aki kíváncsiskodik\, akit érdekelnek az újdonságok\, aki nyitva van esetleg az öko szemléletre\, vagy szeretne egy kis gyümölcsöt hazavinni.\nTőlünk még senki nem ment haza üres kézzel\, szívvel. Különleges növények\, egyéb saját termékek\, rengeteg információ\, jó hangulat\, csupa szív emberek!  Ha nincs csere-bere alapod\, hozzad magad\, hozd a nyitottságod\, a tudásod\, a tapasztalatod\, mindig sokat tanulunk egymástól\, de legnagyobb érték\, hogy jó emberek kapcsolódnak egymáshoz.
URL:https://www.babonymegyer.hu/event/helyi-termek-borze/
LOCATION:Sportpálya\, József Attila utca 1\, Bábonymegyer\, Somogy\, 8658\, Magyarország
CATEGORIES:Bábonymegyer,felnőtt rendezvény,Gyermek műsor,gyermek rendezvény,Rendezvény
ATTACH;FMTTYPE=image/jpeg:https://www.babonymegyer.hu/wp-content/uploads/2022/07/index.jpg
END:VEVENT
END:VCALENDAR