BEGIN:VCALENDAR
VERSION:2.0
PRODID:-//Bábonymegyer Község - ECPv6.15.20//NONSGML v1.0//EN
CALSCALE:GREGORIAN
METHOD:PUBLISH
X-ORIGINAL-URL:https://www.babonymegyer.hu
X-WR-CALDESC:Események Bábonymegyer Község
REFRESH-INTERVAL;VALUE=DURATION:PT1H
X-Robots-Tag:noindex
X-PUBLISHED-TTL:PT1H
BEGIN:VTIMEZONE
TZID:Europe/Budapest
BEGIN:DAYLIGHT
TZOFFSETFROM:+0100
TZOFFSETTO:+0200
TZNAME:CEST
DTSTART:20200329T010000
END:DAYLIGHT
BEGIN:STANDARD
TZOFFSETFROM:+0200
TZOFFSETTO:+0100
TZNAME:CET
DTSTART:20201025T010000
END:STANDARD
BEGIN:DAYLIGHT
TZOFFSETFROM:+0100
TZOFFSETTO:+0200
TZNAME:CEST
DTSTART:20210328T010000
END:DAYLIGHT
BEGIN:STANDARD
TZOFFSETFROM:+0200
TZOFFSETTO:+0100
TZNAME:CET
DTSTART:20211031T010000
END:STANDARD
BEGIN:DAYLIGHT
TZOFFSETFROM:+0100
TZOFFSETTO:+0200
TZNAME:CEST
DTSTART:20220327T010000
END:DAYLIGHT
BEGIN:STANDARD
TZOFFSETFROM:+0200
TZOFFSETTO:+0100
TZNAME:CET
DTSTART:20221030T010000
END:STANDARD
END:VTIMEZONE
BEGIN:VEVENT
DTSTART;TZID=Europe/Budapest:20211017T130000
DTEND;TZID=Europe/Budapest:20211017T170000
DTSTAMP:20260424T124257
CREATED:20211013T090148Z
LAST-MODIFIED:20211013T090240Z
UID:1802-1634475600-1634490000@www.babonymegyer.hu
SUMMARY:Légy Te is Polgárőr!
DESCRIPTION:Tagokat toboroz a Bábonymegyeri Polgárőr Egyesület!\n\nTagokat toboroz a Bábonymegyeri Polgárőr Egyesület – erről és a jelentkezés feltételeiről értesíti a falu lakosságát Knopf Antal polgármester és Horváth János képviselő\, valamint Csirke Erika a Bábonymegyeri Polgárőr Egyesület elnöke\, október 17.-én 13:00-tól tartja az egyesület toborzó és egyben vizsga napját falukban. \n\n\n\nHelyszín: Bábonymegyeri Faluház Dózsa Gy. u.\n\nSok szeretettel várjuk az érdeklődőket\, tegyünk együtt falunkért!
URL:https://www.babonymegyer.hu/event/legy-te-is-polgaror/
LOCATION:Bábonymegyeri Faluház\, Dózsa György u. 36.\, Bábonymegyer\, Somogy\, 8658\, Magyarország
CATEGORIES:Bábonymegyer,felnőtt rendezvény,Informatív,Rendezvény
END:VEVENT
END:VCALENDAR