BEGIN:VCALENDAR
VERSION:2.0
PRODID:-//Bábonymegyer Község - ECPv6.15.20//NONSGML v1.0//EN
CALSCALE:GREGORIAN
METHOD:PUBLISH
X-ORIGINAL-URL:https://www.babonymegyer.hu
X-WR-CALDESC:Események Bábonymegyer Község
REFRESH-INTERVAL;VALUE=DURATION:PT1H
X-Robots-Tag:noindex
X-PUBLISHED-TTL:PT1H
BEGIN:VTIMEZONE
TZID:Europe/Budapest
BEGIN:DAYLIGHT
TZOFFSETFROM:+0100
TZOFFSETTO:+0200
TZNAME:CEST
DTSTART:20200329T010000
END:DAYLIGHT
BEGIN:STANDARD
TZOFFSETFROM:+0200
TZOFFSETTO:+0100
TZNAME:CET
DTSTART:20201025T010000
END:STANDARD
BEGIN:DAYLIGHT
TZOFFSETFROM:+0100
TZOFFSETTO:+0200
TZNAME:CEST
DTSTART:20210328T010000
END:DAYLIGHT
BEGIN:STANDARD
TZOFFSETFROM:+0200
TZOFFSETTO:+0100
TZNAME:CET
DTSTART:20211031T010000
END:STANDARD
BEGIN:DAYLIGHT
TZOFFSETFROM:+0100
TZOFFSETTO:+0200
TZNAME:CEST
DTSTART:20220327T010000
END:DAYLIGHT
BEGIN:STANDARD
TZOFFSETFROM:+0200
TZOFFSETTO:+0100
TZNAME:CET
DTSTART:20221030T010000
END:STANDARD
END:VTIMEZONE
BEGIN:VEVENT
DTSTART;TZID=Europe/Budapest:20210527T090000
DTEND;TZID=Europe/Budapest:20210527T100000
DTSTAMP:20260424T204300
CREATED:20210511T164944Z
LAST-MODIFIED:20210511T165441Z
UID:1341-1622106000-1622109600@www.babonymegyer.hu
SUMMARY:Kutyaoltás - 2021
DESCRIPTION:Tisztelt Kutyatartók!\nMinden 3 hónapos kort betöltött eb évenkénti veszettség elleni oltása és féregtelenítése kötelező és a tulajdonos kötelessége. \nNem oltható az eb\, ha\n– két héten belül megharapott valakit\, ezért hatósági megfigyelés alatt áll\n– betegségre utaló tünetei vannak \nA félős\, nehezen kezelhető\, agresszív\, támadó kutya csak szájkosárral vezethető fel az oltásra.\nAz összevezetéses oltás helyszínén gyógykezelést végezni nem lehet. A veszettség elleni védőoltás kizárólag microchip-pel megjelölt ebeknél végezhető el. Ennek hiányában a védőoltás előtt a jelöletlen ebet microchip-pel kell ellátni\, melyre a\nhelyszínen lehetőség van. \nKUTYAOLTÁS – 2021.05.27. (csütörtök)\n9:00 – 10:00-ig –  Megyer  COOP BOLT \n10:00 – 11:00-ig – Bábony (Önkormányzat) \nPót-oltás – 2021.06.02. (szerda)\n17:00 – 18:00-ig  VÍZHÁZNÁL! \n\nOltási könyv: 500 Ft\nOltás ára: 5000 Ft\nKutya chip: 4000 Ft
URL:https://www.babonymegyer.hu/event/kutyaoltas-2021/
LOCATION:Bábonymegyer Önkormányzata\, Dózsa György u. 50.\, Bábonymegyer\, Somogy\, 8658\, Magyarország
CATEGORIES:Bábonymegyer
ATTACH;FMTTYPE=image/jpeg:https://www.babonymegyer.hu/wp-content/uploads/2021/05/unnamed1.jpg
ORGANIZER;CN="B%C3%A1bonymegyer %C3%96nkorm%C3%A1nyzata":MAILTO:babonymegyer@somogy.hu
END:VEVENT
END:VCALENDAR