BEGIN:VCALENDAR
VERSION:2.0
PRODID:-//Bábonymegyer Község - ECPv6.15.20//NONSGML v1.0//EN
CALSCALE:GREGORIAN
METHOD:PUBLISH
X-WR-CALNAME:Bábonymegyer Község
X-ORIGINAL-URL:https://www.babonymegyer.hu
X-WR-CALDESC:Események Bábonymegyer Község
REFRESH-INTERVAL;VALUE=DURATION:PT1H
X-Robots-Tag:noindex
X-PUBLISHED-TTL:PT1H
BEGIN:VTIMEZONE
TZID:Europe/Budapest
BEGIN:DAYLIGHT
TZOFFSETFROM:+0100
TZOFFSETTO:+0200
TZNAME:CEST
DTSTART:20180325T010000
END:DAYLIGHT
BEGIN:STANDARD
TZOFFSETFROM:+0200
TZOFFSETTO:+0100
TZNAME:CET
DTSTART:20181028T010000
END:STANDARD
BEGIN:DAYLIGHT
TZOFFSETFROM:+0100
TZOFFSETTO:+0200
TZNAME:CEST
DTSTART:20190331T010000
END:DAYLIGHT
BEGIN:STANDARD
TZOFFSETFROM:+0200
TZOFFSETTO:+0100
TZNAME:CET
DTSTART:20191027T010000
END:STANDARD
BEGIN:DAYLIGHT
TZOFFSETFROM:+0100
TZOFFSETTO:+0200
TZNAME:CEST
DTSTART:20200329T010000
END:DAYLIGHT
BEGIN:STANDARD
TZOFFSETFROM:+0200
TZOFFSETTO:+0100
TZNAME:CET
DTSTART:20201025T010000
END:STANDARD
BEGIN:DAYLIGHT
TZOFFSETFROM:+0100
TZOFFSETTO:+0200
TZNAME:CEST
DTSTART:20210328T010000
END:DAYLIGHT
BEGIN:STANDARD
TZOFFSETFROM:+0200
TZOFFSETTO:+0100
TZNAME:CET
DTSTART:20211031T010000
END:STANDARD
END:VTIMEZONE
BEGIN:VEVENT
DTSTART;TZID=Europe/Budapest:20191214T100000
DTEND;TZID=Europe/Budapest:20191214T140000
DTSTAMP:20260425T224621
CREATED:20191213T112137Z
LAST-MODIFIED:20191213T141405Z
UID:141-1576317600-1576332000@www.babonymegyer.hu
SUMMARY:Ruhabörze a Faluházban
DESCRIPTION:A holnapi INGYENES ruhabörzére felkészültünk. Sok szeretettel várunk minden érdeklődőt 10 órai kezdettel. \nKépviselő Testület
URL:https://www.babonymegyer.hu/event/ruhaborze-a-faluhazban/
LOCATION:Bábonymegyeri Faluház\, Dózsa György u. 36.\, Bábonymegyer\, Somogy\, 8658\, Magyarország
ATTACH;FMTTYPE=image/jpeg:https://www.babonymegyer.hu/wp-content/uploads/2019/12/ruha.jpg
ORGANIZER;CN="B%C3%A1bonymegyer %C3%96nkorm%C3%A1nyzata":MAILTO:babonymegyer@somogy.hu
END:VEVENT
BEGIN:VEVENT
DTSTART;TZID=Europe/Budapest:20191215T160000
DTEND;TZID=Europe/Budapest:20191215T170000
DTSTAMP:20260425T224621
CREATED:20191213T130402Z
LAST-MODIFIED:20191214T075111Z
UID:153-1576425600-1576429200@www.babonymegyer.hu
SUMMARY:Adventi gyertyagyújtás
DESCRIPTION:Köszönjük mindenkinek\, aki velünk gyújtott gyertyát advent vasárnapján. \nJövő héten ugyanitt találkozunk 16 órakor\, egy kis teával és forralt borral várjuk vendégeinket az ünnepség után. \nÁldott békés ünnepvárást mindenkinek.
URL:https://www.babonymegyer.hu/event/adventi-gyertyagujtas/
LOCATION:Szent István utcai park\, Szent István utca 44.\, Bábonymegyer\, Somogy\, 8658\, Magyarország
ATTACH;FMTTYPE=image/jpeg:https://www.babonymegyer.hu/wp-content/uploads/2019/12/30acc056eefaa17655fb482e0f42c3aa_XL.jpg
ORGANIZER;CN="B%C3%A1bonymegyer %C3%96nkorm%C3%A1nyzata":MAILTO:babonymegyer@somogy.hu
END:VEVENT
BEGIN:VEVENT
DTSTART;TZID=Europe/Budapest:20191222T160000
DTEND;TZID=Europe/Budapest:20191222T170000
DTSTAMP:20260425T224621
CREATED:20191213T140603Z
LAST-MODIFIED:20191214T075052Z
UID:190-1577030400-1577034000@www.babonymegyer.hu
SUMMARY:Adventi gyertyagyújtás
DESCRIPTION:Köszönjük mindenkinek\, aki velünk gyújtott gyertyát advent vasárnapján. \nJövő héten ugyanitt találkozunk 16 órakor\, egy kis teával és forralt borral várjuk vendégeinket az ünnepség után. \nÁldott békés ünnepvárást mindenkinek.
URL:https://www.babonymegyer.hu/event/adventi-gyertyagyujtas/
LOCATION:Szent István utcai park\, Szent István utca 44.\, Bábonymegyer\, Somogy\, 8658\, Magyarország
ATTACH;FMTTYPE=image/jpeg:https://www.babonymegyer.hu/wp-content/uploads/2019/12/30acc056eefaa17655fb482e0f42c3aa_XL.jpg
ORGANIZER;CN="B%C3%A1bonymegyer %C3%96nkorm%C3%A1nyzata":MAILTO:babonymegyer@somogy.hu
END:VEVENT
BEGIN:VEVENT
DTSTART;TZID=Europe/Budapest:20191231T180000
DTEND;TZID=Europe/Budapest:20200101T050000
DTSTAMP:20260425T224621
CREATED:20191231T123037Z
LAST-MODIFIED:20191231T123122Z
UID:289-1577815200-1577854800@www.babonymegyer.hu
SUMMARY:BÚÉK - Batyusbál 2020 - Bábonymegyer
DESCRIPTION:  \nA Bábonymegyeri Nyugdíjas Egyesület szervezésében az egyesület tagjai a 2019 évet batyus bállal búcsúztatják. \nSok szeretettel várják az érdeklődőket és falú lakosságát. \nBálba mindenki hozzon magával azt amit fogyasztani szeretne! \nKezdés 18:00
URL:https://www.babonymegyer.hu/event/buek-batyusbal-2020-babonymegyer/
LOCATION:Somogy
CATEGORIES:Rendezvény
ATTACH;FMTTYPE=image/jpeg:https://www.babonymegyer.hu/wp-content/uploads/2019/12/81069467_3700225343328549_368189477358665728_n.jpg
END:VEVENT
END:VCALENDAR