BEGIN:VCALENDAR
VERSION:2.0
PRODID:-//Bábonymegyer Község - ECPv6.15.20//NONSGML v1.0//EN
CALSCALE:GREGORIAN
METHOD:PUBLISH
X-WR-CALNAME:Bábonymegyer Község
X-ORIGINAL-URL:https://www.babonymegyer.hu
X-WR-CALDESC:Események Bábonymegyer Község
REFRESH-INTERVAL;VALUE=DURATION:PT1H
X-Robots-Tag:noindex
X-PUBLISHED-TTL:PT1H
BEGIN:VTIMEZONE
TZID:Europe/Budapest
BEGIN:DAYLIGHT
TZOFFSETFROM:+0100
TZOFFSETTO:+0200
TZNAME:CEST
DTSTART:20200329T010000
END:DAYLIGHT
BEGIN:STANDARD
TZOFFSETFROM:+0200
TZOFFSETTO:+0100
TZNAME:CET
DTSTART:20201025T010000
END:STANDARD
BEGIN:DAYLIGHT
TZOFFSETFROM:+0100
TZOFFSETTO:+0200
TZNAME:CEST
DTSTART:20210328T010000
END:DAYLIGHT
BEGIN:STANDARD
TZOFFSETFROM:+0200
TZOFFSETTO:+0100
TZNAME:CET
DTSTART:20211031T010000
END:STANDARD
BEGIN:DAYLIGHT
TZOFFSETFROM:+0100
TZOFFSETTO:+0200
TZNAME:CEST
DTSTART:20220327T010000
END:DAYLIGHT
BEGIN:STANDARD
TZOFFSETFROM:+0200
TZOFFSETTO:+0100
TZNAME:CET
DTSTART:20221030T010000
END:STANDARD
END:VTIMEZONE
BEGIN:VEVENT
DTSTART;TZID=Europe/Budapest:20211101T143000
DTEND;TZID=Europe/Budapest:20211101T143000
DTSTAMP:20260424T124129
CREATED:20211028T174125Z
LAST-MODIFIED:20211028T181255Z
UID:1837-1635777000-1635777000@www.babonymegyer.hu
SUMMARY:Halottak napi megemlékezés
DESCRIPTION:Tisztelt Bábonymegyeri Lakosok!\n2021.11.01.-én 14:30-kor koszorúzás lesz I.-II. világháborús emlékműnél\, az Evangélikus templom kertjében.\nMindenkit szeretettel várunk! \n  \n  \nBábonymegyer Község Önkormányzata nevében Knopf Antal polgármester \n 
URL:https://www.babonymegyer.hu/event/1837/
LOCATION:Bábonyi evangélikus templom\, Rudnay Gyula utca 29.\, Bábonymegyer\, Magyar / Somogy\, 8658\, Magyarország
CATEGORIES:Bábonymegyer,felnőtt rendezvény,Kultúrális,Rendezvény
END:VEVENT
END:VCALENDAR