BEGIN:VCALENDAR
VERSION:2.0
PRODID:-//Bábonymegyer Község - ECPv6.15.20//NONSGML v1.0//EN
CALSCALE:GREGORIAN
METHOD:PUBLISH
X-ORIGINAL-URL:https://www.babonymegyer.hu
X-WR-CALDESC:Események Bábonymegyer Község
REFRESH-INTERVAL;VALUE=DURATION:PT1H
X-Robots-Tag:noindex
X-PUBLISHED-TTL:PT1H
BEGIN:VTIMEZONE
TZID:Europe/Budapest
BEGIN:DAYLIGHT
TZOFFSETFROM:+0100
TZOFFSETTO:+0200
TZNAME:CEST
DTSTART:20200329T010000
END:DAYLIGHT
BEGIN:STANDARD
TZOFFSETFROM:+0200
TZOFFSETTO:+0100
TZNAME:CET
DTSTART:20201025T010000
END:STANDARD
BEGIN:DAYLIGHT
TZOFFSETFROM:+0100
TZOFFSETTO:+0200
TZNAME:CEST
DTSTART:20210328T010000
END:DAYLIGHT
BEGIN:STANDARD
TZOFFSETFROM:+0200
TZOFFSETTO:+0100
TZNAME:CET
DTSTART:20211031T010000
END:STANDARD
BEGIN:DAYLIGHT
TZOFFSETFROM:+0100
TZOFFSETTO:+0200
TZNAME:CEST
DTSTART:20220327T010000
END:DAYLIGHT
BEGIN:STANDARD
TZOFFSETFROM:+0200
TZOFFSETTO:+0100
TZNAME:CET
DTSTART:20221030T010000
END:STANDARD
END:VTIMEZONE
BEGIN:VEVENT
DTSTART;TZID=Europe/Budapest:20210917T140000
DTEND;TZID=Europe/Budapest:20210917T143000
DTSTAMP:20260424T155159
CREATED:20210914T163811Z
LAST-MODIFIED:20210914T192201Z
UID:1743-1631887200-1631889000@www.babonymegyer.hu
SUMMARY:Hivatalos átadó ünnepség
DESCRIPTION:Tájékoztatjuk Bábonymegyer község lakosságát\, hogy a Magyar Falu Program pályázat keretében elnyert útfelújításból\, a Dózsa György utca mint egy 400 m-es szakasza újulhatott meg és készült el. Melynek ünnepélyes átadása: 2021.09.17.-én 14 órakor kerül sor. Witzmann Mihály országgyűlési képviselőnk részvételével kerül hivatalosan is átadásra a falu lakosságának. Minden érdeklődőt szeretettel várunk! Örüljünk együtt falunk gyarapodásának!\n\n\n\nHelyszín: Dózsa György utca eleje\n\n\n\nBábonymegyer Község Önkormányzata és képviselő testülete nevében: Knopf Antal polgármester
URL:https://www.babonymegyer.hu/event/hivatalos-atado-unnepseg/
LOCATION:Bábonymegyer\, Dózsa György utca eleje\, Dózsa György utca\, Bábonymegyer\, 8658\, Magyarország
CATEGORIES:Bábonymegyer,felnőtt rendezvény,Rendezvény,Ünnepség
ORGANIZER;CN="B%C3%A1bonymegyer %C3%96nkorm%C3%A1nyzata":MAILTO:babonymegyer@somogy.hu
END:VEVENT
END:VCALENDAR