BEGIN:VCALENDAR
VERSION:2.0
PRODID:-//Bábonymegyer Község - ECPv6.15.20//NONSGML v1.0//EN
CALSCALE:GREGORIAN
METHOD:PUBLISH
X-ORIGINAL-URL:https://www.babonymegyer.hu
X-WR-CALDESC:Események Bábonymegyer Község
REFRESH-INTERVAL;VALUE=DURATION:PT1H
X-Robots-Tag:noindex
X-PUBLISHED-TTL:PT1H
BEGIN:VTIMEZONE
TZID:Europe/Budapest
BEGIN:DAYLIGHT
TZOFFSETFROM:+0100
TZOFFSETTO:+0200
TZNAME:CEST
DTSTART:20200329T010000
END:DAYLIGHT
BEGIN:STANDARD
TZOFFSETFROM:+0200
TZOFFSETTO:+0100
TZNAME:CET
DTSTART:20201025T010000
END:STANDARD
BEGIN:DAYLIGHT
TZOFFSETFROM:+0100
TZOFFSETTO:+0200
TZNAME:CEST
DTSTART:20210328T010000
END:DAYLIGHT
BEGIN:STANDARD
TZOFFSETFROM:+0200
TZOFFSETTO:+0100
TZNAME:CET
DTSTART:20211031T010000
END:STANDARD
BEGIN:DAYLIGHT
TZOFFSETFROM:+0100
TZOFFSETTO:+0200
TZNAME:CEST
DTSTART:20220327T010000
END:DAYLIGHT
BEGIN:STANDARD
TZOFFSETFROM:+0200
TZOFFSETTO:+0100
TZNAME:CET
DTSTART:20221030T010000
END:STANDARD
END:VTIMEZONE
BEGIN:VEVENT
DTSTART;VALUE=DATE:20210821
DTEND;VALUE=DATE:20210822
DTSTAMP:20260424T173015
CREATED:20210723T061825Z
LAST-MODIFIED:20210723T062711Z
UID:1448-1629504000-1629590399@www.babonymegyer.hu
SUMMARY:Falunap 2021
DESCRIPTION:
URL:https://www.babonymegyer.hu/event/falunap-2021/
LOCATION:Sportpálya\, József Attila utca 1\, Bábonymegyer\, Somogy\, 8658\, Magyarország
CATEGORIES:Bábonymegyer,Bál,felnőtt rendezvény,Gyermek műsor,gyermek rendezvény,Kultúrális,Rendezvény,Ünnepség
ATTACH;FMTTYPE=image/jpeg:https://www.babonymegyer.hu/wp-content/uploads/2021/07/meghivao.jpg
ORGANIZER;CN="B%C3%A1bonymegyer %C3%96nkorm%C3%A1nyzata":MAILTO:babonymegyer@somogy.hu
END:VEVENT
END:VCALENDAR