BEGIN:VCALENDAR
VERSION:2.0
PRODID:-//Bábonymegyer Község - ECPv6.15.20//NONSGML v1.0//EN
CALSCALE:GREGORIAN
METHOD:PUBLISH
X-WR-CALNAME:Bábonymegyer Község
X-ORIGINAL-URL:https://www.babonymegyer.hu
X-WR-CALDESC:Események Bábonymegyer Község
REFRESH-INTERVAL;VALUE=DURATION:PT1H
X-Robots-Tag:noindex
X-PUBLISHED-TTL:PT1H
BEGIN:VTIMEZONE
TZID:Europe/Budapest
BEGIN:DAYLIGHT
TZOFFSETFROM:+0100
TZOFFSETTO:+0200
TZNAME:CEST
DTSTART:20200329T010000
END:DAYLIGHT
BEGIN:STANDARD
TZOFFSETFROM:+0200
TZOFFSETTO:+0100
TZNAME:CET
DTSTART:20201025T010000
END:STANDARD
BEGIN:DAYLIGHT
TZOFFSETFROM:+0100
TZOFFSETTO:+0200
TZNAME:CEST
DTSTART:20210328T010000
END:DAYLIGHT
BEGIN:STANDARD
TZOFFSETFROM:+0200
TZOFFSETTO:+0100
TZNAME:CET
DTSTART:20211031T010000
END:STANDARD
BEGIN:DAYLIGHT
TZOFFSETFROM:+0100
TZOFFSETTO:+0200
TZNAME:CEST
DTSTART:20220327T010000
END:DAYLIGHT
BEGIN:STANDARD
TZOFFSETFROM:+0200
TZOFFSETTO:+0100
TZNAME:CET
DTSTART:20221030T010000
END:STANDARD
END:VTIMEZONE
BEGIN:VEVENT
DTSTART;TZID=Europe/Budapest:20210626T100000
DTEND;TZID=Europe/Budapest:20210626T180000
DTSTAMP:20260424T204152
CREATED:20210618T084930Z
LAST-MODIFIED:20210618T090306Z
UID:1394-1624701600-1624730400@www.babonymegyer.hu
SUMMARY:Elszármazottak Találkozója
DESCRIPTION:Minden Évben Haza Térünk!\n\n\nMit jelent nekem a szülőföld? Ez a  hely\, ahol születtem és nevelkedtem. Ez a föld\, ahol az otthonom van\, ahová mindig visszavágyom és csodás emlékek kötnek. Nagyon szeretem gyönyörű tájait\, nevezetességeit\, hagyományait. ezen gondolatok mellett született meg az ötlet nekünk is …majd léptünk a tettek mezejére ami végre meg is valósulhat így a pandémia visszaszorulása után. \nSzülőföld! Mily csodálatos a magyar nyelv\, hogy ily szép szóösszetétellel fejezi ki azt a helyet\, ahol megszülettünk. Szinte a szívünk mélyéig hatol\, amikor kimondjuk: Szülőföld! Megannyi érzelem\, emlék tolul elénk\, amikor e szót halljuk. Ott kapta hátára a lengedező szellő alig hallható sírásunkat\, hogy hírül adja a világnak: megszülettünk! Itt ringott bölcsőnk\, itt tudatosult bennünk édesanyánk örökké feledhetetlen szerető arca. Itt töltöttük gyerekkorunk legszebb időszakát\, itt éltünk családunkkal és kötöttünk életre szóló barátságokat. Elszármaztunk\, mert az élet ezt hozta valamikor\, de mi most haza térünk…. 2021.06.26-án! \n„Nem tudhatom\, hogy másnak e tájék mit jelent\, nekem szülőhazám…”\n\n\nTervezett program:\n\n\n10.00 – Folyamatos érkezés Bábonymegyer Faluház előtti területre \n11.30 – A jelenlévők köszöntése ünnepélyes köszöntése – Knopf Antal Polgármester és  Vázsonyi Gyula szervező részéről \n12.00 – Közbeszéd… régi emlékek\,történetek felidézése egymás között…(focipálya) Futball pályán nyitott sátor lesz felállítva\, ahol a kedves vendégek baráti beszélgetések keretében eleveníthetik fel a régi bábonymegyeri emlékeiket\, találkozhatnak rég nem látott ismerősökkel Lehetőségekhez mérten mindenki\, amit gondol és tud hozzájárulni a találkozóhoz batyus jelleggel\, Köszönjük szépen előre is! \n13.30 – Látogassunk el kis falunk utcáiba baráti körben – iskola\, templomok\, iskolák\,  nevezetes helyek – Közben baráti beszélgetések folytatás a régmúlt időkről és a jelenről barátainkkal. \nRég volt… szép volt.. hogy is volt..ki is volt… \n16.00 – Tervezett vissza érés a focipályára ahol frissítőkkel várjuk  kedves vendégeinket \n18:00 – Tervezett rendezvényzárás \n\n\n\nA rendezvény ingyenes!\n\nVárunk mindenkit sok szeretettel!\n\n\n\n\n\n\n\n\n 
URL:https://www.babonymegyer.hu/event/elszarmazottak-talalkozoja/
LOCATION:Sportpálya\, József Attila utca 1\, Bábonymegyer\, Somogy\, 8658\, Magyarország
CATEGORIES:Bábonymegyer,felnőtt rendezvény,gyermek rendezvény,Kultúrális,Rendezvény,Ünnepség
ATTACH;FMTTYPE=image/jpeg:https://www.babonymegyer.hu/wp-content/uploads/2021/06/183316529_2822587614657761_2712738292252785149_n.jpg
ORGANIZER;CN="B%C3%A1bonymegyer %C3%96nkorm%C3%A1nyzata":MAILTO:babonymegyer@somogy.hu
END:VEVENT
END:VCALENDAR