BEGIN:VCALENDAR
VERSION:2.0
PRODID:-//Bábonymegyer Község - ECPv6.15.20//NONSGML v1.0//EN
CALSCALE:GREGORIAN
METHOD:PUBLISH
X-ORIGINAL-URL:https://www.babonymegyer.hu
X-WR-CALDESC:Események Bábonymegyer Község
REFRESH-INTERVAL;VALUE=DURATION:PT1H
X-Robots-Tag:noindex
X-PUBLISHED-TTL:PT1H
BEGIN:VTIMEZONE
TZID:Europe/Budapest
BEGIN:DAYLIGHT
TZOFFSETFROM:+0100
TZOFFSETTO:+0200
TZNAME:CEST
DTSTART:20190331T010000
END:DAYLIGHT
BEGIN:STANDARD
TZOFFSETFROM:+0200
TZOFFSETTO:+0100
TZNAME:CET
DTSTART:20191027T010000
END:STANDARD
BEGIN:DAYLIGHT
TZOFFSETFROM:+0100
TZOFFSETTO:+0200
TZNAME:CEST
DTSTART:20200329T010000
END:DAYLIGHT
BEGIN:STANDARD
TZOFFSETFROM:+0200
TZOFFSETTO:+0100
TZNAME:CET
DTSTART:20201025T010000
END:STANDARD
BEGIN:DAYLIGHT
TZOFFSETFROM:+0100
TZOFFSETTO:+0200
TZNAME:CEST
DTSTART:20210328T010000
END:DAYLIGHT
BEGIN:STANDARD
TZOFFSETFROM:+0200
TZOFFSETTO:+0100
TZNAME:CET
DTSTART:20211031T010000
END:STANDARD
END:VTIMEZONE
BEGIN:VEVENT
DTSTART;TZID=Europe/Budapest:20201226T130000
DTEND;TZID=Europe/Budapest:20201226T130000
DTSTAMP:20260425T055531
CREATED:20201217T144548Z
LAST-MODIFIED:20201217T144805Z
UID:935-1608987600-1608987600@www.babonymegyer.hu
SUMMARY:Karácsonyi istentisztelet - Katolikus templom
DESCRIPTION:ÜNNEPELJÜK JÉZUS KRISZTUS SZÜLETÉSÉT!\nKarácsonyi ünnepi istentisztelet II. \nIdőpont: December 25. – 13:00 \nHelyszín: megyeri Katolikus templom
URL:https://www.babonymegyer.hu/event/karacsonyi-istentisztelet-katolikus-templom/
LOCATION:Megyeri Kisboldogasszony – Katolikus templom\, Szent István utca 101.\, Bábonymegyer\, Somogy\, 8658\, Magyarország
CATEGORIES:Bábonymegyer,Rendezvény,Ünnepség
ATTACH;FMTTYPE=image/jpeg:https://www.babonymegyer.hu/wp-content/uploads/2020/12/IMG_6716.jpg
END:VEVENT
END:VCALENDAR