BEGIN:VCALENDAR
VERSION:2.0
PRODID:-//Bábonymegyer Község - ECPv6.15.20//NONSGML v1.0//EN
CALSCALE:GREGORIAN
METHOD:PUBLISH
X-WR-CALNAME:Bábonymegyer Község
X-ORIGINAL-URL:https://www.babonymegyer.hu
X-WR-CALDESC:Események Bábonymegyer Község
REFRESH-INTERVAL;VALUE=DURATION:PT1H
X-Robots-Tag:noindex
X-PUBLISHED-TTL:PT1H
BEGIN:VTIMEZONE
TZID:Europe/Budapest
BEGIN:DAYLIGHT
TZOFFSETFROM:+0100
TZOFFSETTO:+0200
TZNAME:CEST
DTSTART:20190331T010000
END:DAYLIGHT
BEGIN:STANDARD
TZOFFSETFROM:+0200
TZOFFSETTO:+0100
TZNAME:CET
DTSTART:20191027T010000
END:STANDARD
BEGIN:DAYLIGHT
TZOFFSETFROM:+0100
TZOFFSETTO:+0200
TZNAME:CEST
DTSTART:20200329T010000
END:DAYLIGHT
BEGIN:STANDARD
TZOFFSETFROM:+0200
TZOFFSETTO:+0100
TZNAME:CET
DTSTART:20201025T010000
END:STANDARD
BEGIN:DAYLIGHT
TZOFFSETFROM:+0100
TZOFFSETTO:+0200
TZNAME:CEST
DTSTART:20210328T010000
END:DAYLIGHT
BEGIN:STANDARD
TZOFFSETFROM:+0200
TZOFFSETTO:+0100
TZNAME:CET
DTSTART:20211031T010000
END:STANDARD
END:VTIMEZONE
BEGIN:VEVENT
DTSTART;TZID=Europe/Budapest:20200301T163000
DTEND;TZID=Europe/Budapest:20200321T190000
DTSTAMP:20260425T193925
CREATED:20200221T085958Z
LAST-MODIFIED:20200221T095533Z
UID:511-1583080200-1584817200@www.babonymegyer.hu
SUMMARY:A város hónapja rendezvény sorozat Tabon
DESCRIPTION:
URL:https://www.babonymegyer.hu/event/a-varos-honapja-rendezveny-sorozat-tabon/
LOCATION:Zichy Mihály Művelődési Központ\, 8600\, Tav\, Somgy\, 8660\, Magyarország
CATEGORIES:Rendezvény,Rendezvénysorozat,Tab,Ünnepség
ORGANIZER;CN="Zichy Mih%C3%A1ly M%C5%B1vel%C5%91d%C3%A9si K%C3%B6zpont Tab":MAILTO:tabmuvkozpont@gmail.com
END:VEVENT
END:VCALENDAR