BEGIN:VCALENDAR
VERSION:2.0
PRODID:-//Bábonymegyer Község - ECPv6.15.20//NONSGML v1.0//EN
CALSCALE:GREGORIAN
METHOD:PUBLISH
X-WR-CALNAME:Bábonymegyer Község
X-ORIGINAL-URL:https://www.babonymegyer.hu
X-WR-CALDESC:Események Bábonymegyer Község
REFRESH-INTERVAL;VALUE=DURATION:PT1H
X-Robots-Tag:noindex
X-PUBLISHED-TTL:PT1H
BEGIN:VTIMEZONE
TZID:Europe/Budapest
BEGIN:DAYLIGHT
TZOFFSETFROM:+0100
TZOFFSETTO:+0200
TZNAME:CEST
DTSTART:20190331T010000
END:DAYLIGHT
BEGIN:STANDARD
TZOFFSETFROM:+0200
TZOFFSETTO:+0100
TZNAME:CET
DTSTART:20191027T010000
END:STANDARD
BEGIN:DAYLIGHT
TZOFFSETFROM:+0100
TZOFFSETTO:+0200
TZNAME:CEST
DTSTART:20200329T010000
END:DAYLIGHT
BEGIN:STANDARD
TZOFFSETFROM:+0200
TZOFFSETTO:+0100
TZNAME:CET
DTSTART:20201025T010000
END:STANDARD
BEGIN:DAYLIGHT
TZOFFSETFROM:+0100
TZOFFSETTO:+0200
TZNAME:CEST
DTSTART:20210328T010000
END:DAYLIGHT
BEGIN:STANDARD
TZOFFSETFROM:+0200
TZOFFSETTO:+0100
TZNAME:CET
DTSTART:20211031T010000
END:STANDARD
END:VTIMEZONE
BEGIN:VEVENT
DTSTART;TZID=Europe/Budapest:20200131T140000
DTEND;TZID=Europe/Budapest:20200131T150000
DTSTAMP:20260425T211427
CREATED:20200130T074112Z
LAST-MODIFIED:20200130T080133Z
UID:333-1580479200-1580482800@www.babonymegyer.hu
SUMMARY:Ribizli bohóc műsora - Bábonymegyeren
DESCRIPTION:Kedves Bábonymegyeriek!\nA Községi Könyvtár szeretettel meghív gyermekműsorára!\nIdőpont: 2020. 01. 31-én (pénteken) 14 órai kezdettel\nRibizli bohóc műsora a megyeri iskola tornatermében!\n\nBelépés ingyenes!
URL:https://www.babonymegyer.hu/event/ribizli-bohoc-musora-babonymegyeren/
LOCATION:Bábonymegyeri Általános Iskola\, Szent István u. 44.\, Bábonymegyer\, Somogy\, 8658\, Magyarország
CATEGORIES:Bábonymegyer,Gyermek műsor,Rendezvény
ATTACH;FMTTYPE=image/jpeg:https://www.babonymegyer.hu/wp-content/uploads/2020/01/images2.jpg
END:VEVENT
END:VCALENDAR